BEGIN:VCALENDAR
VERSION:2.0
PRODID:-//hacksw/handcal//NONSGML v1.0//EN
CALSCALE:GREGORIAN
BEGIN:VEVENT
DTEND:20260611T230000Z
UID:69ed75a0bcb8e
DTSTAMP:20260426T031704Z
LOCATION:1445 Sainte-Croix
DESCRIPTION:
URL;VALUE=URI:
SUMMARY:Spartan Sainte-Croix
DTSTART:20260611T230000Z
END:VEVENT
END:VCALENDAR
An internal server error occurred.