BEGIN:VCALENDAR
VERSION:2.0
PRODID:-//hacksw/handcal//NONSGML v1.0//EN
CALSCALE:GREGORIAN
BEGIN:VEVENT
DTEND:20260515T230000Z
UID:69e53339cd50e
DTSTAMP:20260419T205537Z
LOCATION:03835 Valcianska Dolina
DESCRIPTION:
URL;VALUE=URI:
SUMMARY:Spartan Valcianska Dolina
DTSTART:20260515T230000Z
END:VEVENT
END:VCALENDAR
An internal server error occurred.