BEGIN:VCALENDAR
VERSION:2.0
PRODID:-//hacksw/handcal//NONSGML v1.0//EN
CALSCALE:GREGORIAN
BEGIN:VEVENT
DTEND:20260522T230000Z
UID:69e5e230ac005
DTSTAMP:20260420T092208Z
LOCATION:2041 Zandvoort
DESCRIPTION:
URL;VALUE=URI:
SUMMARY:Spartan Zandvoort
DTSTART:20260522T230000Z
END:VEVENT
END:VCALENDAR
An internal server error occurred.