BEGIN:VCALENDAR
VERSION:2.0
PRODID:-//hacksw/handcal//NONSGML v1.0//EN
CALSCALE:GREGORIAN
BEGIN:VEVENT
DTEND:20261002T230000Z
UID:69e70ec51dc2e
DTSTAMP:20260421T064437Z
LOCATION:37201 Tennessee/Nashville

DESCRIPTION:
URL;VALUE=URI:
SUMMARY:Spartan Nashville
DTSTART:20261002T230000Z
END:VEVENT
END:VCALENDAR
An internal server error occurred.