BEGIN:VCALENDAR
VERSION:2.0
PRODID:-//hacksw/handcal//NONSGML v1.0//EN
CALSCALE:GREGORIAN
BEGIN:VEVENT
DTEND:20260918T230000Z
UID:69e6d3b0cab55
DTSTAMP:20260421T023232Z
LOCATION:05403 Vermont
DESCRIPTION:
URL;VALUE=URI:
SUMMARY:Spartan Vermont
DTSTART:20260918T230000Z
END:VEVENT
END:VCALENDAR
An internal server error occurred.