BEGIN:VCALENDAR
VERSION:2.0
PRODID:-//hacksw/handcal//NONSGML v1.0//EN
CALSCALE:GREGORIAN
BEGIN:VEVENT
DTEND:20260828T230000Z
UID:69e70ec534430
DTSTAMP:20260421T064437Z
LOCATION:24701 West Virginia
DESCRIPTION:
URL;VALUE=URI:
SUMMARY:Spartan West Virginia
DTSTART:20260828T230000Z
END:VEVENT
END:VCALENDAR
An internal server error occurred.