BEGIN:VCALENDAR
VERSION:2.0
PRODID:-//hacksw/handcal//NONSGML v1.0//EN
CALSCALE:GREGORIAN
BEGIN:VEVENT
DTEND:20260814T230000Z
UID:69e63b4be3c03
DTSTAMP:20260420T154219Z
LOCATION:96791 Waialua/Hawaii
DESCRIPTION:
URL;VALUE=URI:
SUMMARY:Spartan Hawaii
DTSTART:20260814T230000Z
END:VEVENT
END:VCALENDAR
An internal server error occurred.