BEGIN:VCALENDAR
VERSION:2.0
PRODID:-//hacksw/handcal//NONSGML v1.0//EN
CALSCALE:GREGORIAN
BEGIN:VEVENT
DTEND:20260807T230000Z
UID:69e6d64344196
DTSTAMP:20260421T024331Z
LOCATION:83701 Idaho
DESCRIPTION:
URL;VALUE=URI:
SUMMARY:Spartan Boise
DTSTART:20260807T230000Z
END:VEVENT
END:VCALENDAR
An internal server error occurred.