BEGIN:VCALENDAR
VERSION:2.0
PRODID:-//hacksw/handcal//NONSGML v1.0//EN
CALSCALE:GREGORIAN
BEGIN:VEVENT
DTEND:20260731T230000Z
UID:69e720fb20f73
DTSTAMP:20260421T080219Z
LOCATION:28704 Asheville
DESCRIPTION:
URL;VALUE=URI:
SUMMARY:Spartan Asheville
DTSTART:20260731T230000Z
END:VEVENT
END:VCALENDAR
An internal server error occurred.