BEGIN:VCALENDAR
VERSION:2.0
PRODID:-//hacksw/handcal//NONSGML v1.0//EN
CALSCALE:GREGORIAN
BEGIN:VEVENT
DTEND:20260717T230000Z
UID:69e5e21c9f28c
DTSTAMP:20260420T092148Z
LOCATION:48201 Michigan
DESCRIPTION:
URL;VALUE=URI:
SUMMARY:Spartan Michigan
DTSTART:20260717T230000Z
END:VEVENT
END:VCALENDAR
An internal server error occurred.