BEGIN:VCALENDAR
VERSION:2.0
PRODID:-//hacksw/handcal//NONSGML v1.0//EN
CALSCALE:GREGORIAN
BEGIN:VEVENT
DTEND:20260710T230000Z
UID:69e5e6744f51b
DTSTAMP:20260420T094020Z
LOCATION:84043 Utah
DESCRIPTION:
URL;VALUE=URI:
SUMMARY:Spartan Utah
DTSTART:20260710T230000Z
END:VEVENT
END:VCALENDAR
An internal server error occurred.