BEGIN:VCALENDAR
VERSION:2.0
PRODID:-//hacksw/handcal//NONSGML v1.0//EN
CALSCALE:GREGORIAN
BEGIN:VEVENT
DTEND:20260710T230000Z
UID:69e5fdcb3037c
DTSTAMP:20260420T111955Z
LOCATION:18360 Pennsylvania
DESCRIPTION:
URL;VALUE=URI:
SUMMARY:Spartan Poconos
DTSTART:20260710T230000Z
END:VEVENT
END:VCALENDAR
An internal server error occurred.