BEGIN:VCALENDAR
VERSION:2.0
PRODID:-//hacksw/handcal//NONSGML v1.0//EN
CALSCALE:GREGORIAN
BEGIN:VEVENT
DTEND:20260703T230000Z
UID:69e70ec5602b8
DTSTAMP:20260421T064437Z
LOCATION:39046 Dolomiti
DESCRIPTION:
URL;VALUE=URI:
SUMMARY:Primiero Dolomiti Marathon
DTSTART:20260703T230000Z
END:VEVENT
END:VCALENDAR
An internal server error occurred.