BEGIN:VCALENDAR
VERSION:2.0
PRODID:-//hacksw/handcal//NONSGML v1.0//EN
CALSCALE:GREGORIAN
BEGIN:VEVENT
DTEND:20260605T230000Z
UID:69e5697293866
DTSTAMP:20260420T004658Z
LOCATION:45201 Cincinnati
DESCRIPTION:
URL;VALUE=URI:
SUMMARY:Spartan Cincinnati
DTSTART:20260605T230000Z
END:VEVENT
END:VCALENDAR
An internal server error occurred.