BEGIN:VCALENDAR
VERSION:2.0
PRODID:-//hacksw/handcal//NONSGML v1.0//EN
CALSCALE:GREGORIAN
BEGIN:VEVENT
DTEND:20261230T230000Z
UID:69eca0ac12e07
DTSTAMP:20260425T120828Z
LOCATION:6020 Innsbruck
DESCRIPTION:
URL;VALUE=URI:
SUMMARY:Silvesterlauf Innsbruck
DTSTART:20261230T230000Z
END:VEVENT
END:VCALENDAR
An internal server error occurred.