BEGIN:VCALENDAR
VERSION:2.0
PRODID:-//hacksw/handcal//NONSGML v1.0//EN
CALSCALE:GREGORIAN
BEGIN:VEVENT
DTEND:20261128T230000Z
UID:69e812184f493
DTSTAMP:20260422T011104Z
LOCATION:130001 Cartagena
DESCRIPTION:
URL;VALUE=URI:
SUMMARY:IRONMAN 70.3 Cartagena
DTSTART:20261128T230000Z
END:VEVENT
END:VCALENDAR
An internal server error occurred.