BEGIN:VCALENDAR
VERSION:2.0
PRODID:-//hacksw/handcal//NONSGML v1.0//EN
CALSCALE:GREGORIAN
BEGIN:VEVENT
DTEND:20261107T230000Z
UID:69e995428b1cb
DTSTAMP:20260423T044258Z
LOCATION:4943 Geinberg
DESCRIPTION:
URL;VALUE=URI:
SUMMARY:Therme Geinberg Lauf
DTSTART:20261107T230000Z
END:VEVENT
END:VCALENDAR
An internal server error occurred.