BEGIN:VCALENDAR
VERSION:2.0
PRODID:-//hacksw/handcal//NONSGML v1.0//EN
CALSCALE:GREGORIAN
BEGIN:VEVENT
DTEND:20261107T230000Z
UID:69e73ac4c1b55
DTSTAMP:20260421T095220Z
LOCATION:3182 St. Kilda\, Victoria

DESCRIPTION:
URL;VALUE=URI:
SUMMARY:IRONMAN 70.3 Melbourne
DTSTART:20261107T230000Z
END:VEVENT
END:VCALENDAR
An internal server error occurred.