BEGIN:VCALENDAR
VERSION:2.0
PRODID:-//hacksw/handcal//NONSGML v1.0//EN
CALSCALE:GREGORIAN
BEGIN:VEVENT
DTEND:20261106T230000Z
UID:69e75d65c2e1a
DTSTAMP:20260421T122005Z
LOCATION:1220 Wien
DESCRIPTION:
URL;VALUE=URI:
SUMMARY:Wien Rundumadum
DTSTART:20261106T230000Z
END:VEVENT
END:VCALENDAR
An internal server error occurred.