BEGIN:VCALENDAR
VERSION:2.0
PRODID:-//hacksw/handcal//NONSGML v1.0//EN
CALSCALE:GREGORIAN
BEGIN:VEVENT
DTEND:20261107T230000Z
UID:69e75d65966ac
DTSTAMP:20260421T122005Z
LOCATION:4020 Leonding
DESCRIPTION:
URL;VALUE=URI:
SUMMARY:Kürnberg Trail Run
DTSTART:20261107T230000Z
END:VEVENT
END:VCALENDAR
An internal server error occurred.