BEGIN:VCALENDAR
VERSION:2.0
PRODID:-//hacksw/handcal//NONSGML v1.0//EN
CALSCALE:GREGORIAN
BEGIN:VEVENT
DTEND:20261106T230000Z
UID:69e7235d00275
DTSTAMP:20260421T081229Z
LOCATION:8314 Kyburg bei Effretikon
DESCRIPTION:
URL;VALUE=URI:
SUMMARY:Kyburglauf
DTSTART:20261106T230000Z
END:VEVENT
END:VCALENDAR
An internal server error occurred.