BEGIN:VCALENDAR
VERSION:2.0
PRODID:-//hacksw/handcal//NONSGML v1.0//EN
CALSCALE:GREGORIAN
BEGIN:VEVENT
DTEND:20261106T230000Z
UID:69e6fdf52edf1
DTSTAMP:20260421T053253Z
LOCATION:32407 Panama City Beach\, Florida
DESCRIPTION:
URL;VALUE=URI:
SUMMARY:IRONMAN Florida
DTSTART:20261106T230000Z
END:VEVENT
END:VCALENDAR
An internal server error occurred.