BEGIN:VCALENDAR
VERSION:2.0
PRODID:-//hacksw/handcal//NONSGML v1.0//EN
CALSCALE:GREGORIAN
BEGIN:VEVENT
DTEND:20261024T230000Z
UID:69e73ac912335
DTSTAMP:20260421T095225Z
LOCATION:5211 Lengau
DESCRIPTION:
URL;VALUE=URI:
SUMMARY:Herbst Rosen Trophy
DTSTART:20261024T230000Z
END:VEVENT
END:VCALENDAR
An internal server error occurred.