BEGIN:VCALENDAR
VERSION:2.0
PRODID:-//hacksw/handcal//NONSGML v1.0//EN
CALSCALE:GREGORIAN
BEGIN:VEVENT
DTEND:20261024T230000Z
UID:69ed12752b77f
DTSTAMP:20260425T201357Z
LOCATION:6006 Luzern
DESCRIPTION:
URL;VALUE=URI:
SUMMARY:Marathon Lucerne
DTSTART:20261024T230000Z
END:VEVENT
END:VCALENDAR
An internal server error occurred.