BEGIN:VCALENDAR
VERSION:2.0
PRODID:-//hacksw/handcal//NONSGML v1.0//EN
CALSCALE:GREGORIAN
BEGIN:VEVENT
DTEND:20261024T230000Z
UID:69e716aa070d3
DTSTAMP:20260421T071818Z
LOCATION:01217 Dresden
DESCRIPTION:
URL;VALUE=URI:
SUMMARY:Dresden Marathon
DTSTART:20261023T230000Z
END:VEVENT
END:VCALENDAR
An internal server error occurred.