BEGIN:VCALENDAR
VERSION:2.0
PRODID:-//hacksw/handcal//NONSGML v1.0//EN
CALSCALE:GREGORIAN
BEGIN:VEVENT
DTEND:20261016T230000Z
UID:69e6bb65315e5
DTSTAMP:20260421T004853Z
LOCATION:5632 Dorfgastein
DESCRIPTION:
URL;VALUE=URI:
SUMMARY:Beinhoat das Vertical
DTSTART:20261016T230000Z
END:VEVENT
END:VCALENDAR
An internal server error occurred.