BEGIN:VCALENDAR
VERSION:2.0
PRODID:-//hacksw/handcal//NONSGML v1.0//EN
CALSCALE:GREGORIAN
BEGIN:VEVENT
DTEND:20261016T230000Z
UID:69e95acf619fc
DTSTAMP:20260423T003335Z
LOCATION:2635-127 Cascais
DESCRIPTION:
URL;VALUE=URI:
SUMMARY:IRONMAN 70.3 Portugal - Cascais
DTSTART:20261016T230000Z
END:VEVENT
END:VCALENDAR
An internal server error occurred.