BEGIN:VCALENDAR
VERSION:2.0
PRODID:-//hacksw/handcal//NONSGML v1.0//EN
CALSCALE:GREGORIAN
BEGIN:VEVENT
DTEND:20261010T230000Z
UID:69e4dfaa89935
DTSTAMP:20260419T145906Z
LOCATION:21635 Jork
DESCRIPTION:
URL;VALUE=URI:
SUMMARY:Altländer Butterkuchenlauf
DTSTART:20261010T230000Z
END:VEVENT
END:VCALENDAR
An internal server error occurred.