BEGIN:VCALENDAR
VERSION:2.0
PRODID:-//hacksw/handcal//NONSGML v1.0//EN
CALSCALE:GREGORIAN
BEGIN:VEVENT
DTEND:20261003T230000Z
UID:69e6fdf3dfb6f
DTSTAMP:20260421T053251Z
LOCATION:60 001 Poznan

DESCRIPTION:
URL;VALUE=URI:
SUMMARY:Polen Marathon
DTSTART:20261003T230000Z
END:VEVENT
END:VCALENDAR
An internal server error occurred.