BEGIN:VCALENDAR
VERSION:2.0
PRODID:-//hacksw/handcal//NONSGML v1.0//EN
CALSCALE:GREGORIAN
BEGIN:VEVENT
DTEND:20261010T230000Z
UID:69e6fdf4ca083
DTSTAMP:20260421T053252Z
LOCATION:78199 Bräunlingen

DESCRIPTION:
URL;VALUE=URI:
SUMMARY:Schwarzwald Marathon
DTSTART:20261009T230000Z
END:VEVENT
END:VCALENDAR
An internal server error occurred.