BEGIN:VCALENDAR
VERSION:2.0
PRODID:-//hacksw/handcal//NONSGML v1.0//EN
CALSCALE:GREGORIAN
BEGIN:VEVENT
DTEND:20261009T230000Z
UID:69e6fdf62f9ab
DTSTAMP:20260421T053254Z
LOCATION:3652 Leiben
DESCRIPTION:
URL;VALUE=URI:
SUMMARY:WoidWetza Dirtrun
DTSTART:20261009T230000Z
END:VEVENT
END:VCALENDAR
An internal server error occurred.