BEGIN:VCALENDAR
VERSION:2.0
PRODID:-//hacksw/handcal//NONSGML v1.0//EN
CALSCALE:GREGORIAN
BEGIN:VEVENT
DTEND:20261005T230000Z
UID:69e770196ad3e
DTSTAMP:20260421T133953Z
LOCATION:9162 Ferlach
DESCRIPTION:
URL;VALUE=URI:
SUMMARY:Karawanken Trail
DTSTART:20261004T230000Z
END:VEVENT
END:VCALENDAR
An internal server error occurred.