BEGIN:VCALENDAR
VERSION:2.0
PRODID:-//hacksw/handcal//NONSGML v1.0//EN
CALSCALE:GREGORIAN
BEGIN:VEVENT
DTEND:20260530T230000Z
UID:69e54fb722f31
DTSTAMP:20260419T225711Z
LOCATION:5453 Bischofshofen
DESCRIPTION:
URL;VALUE=URI:
SUMMARY:Fitletix Salzburg
DTSTART:20260530T230000Z
END:VEVENT
END:VCALENDAR
An internal server error occurred.