BEGIN:VCALENDAR
VERSION:2.0
PRODID:-//hacksw/handcal//NONSGML v1.0//EN
CALSCALE:GREGORIAN
BEGIN:VEVENT
DTEND:20261003T230000Z
UID:69e70ec7cfc27
DTSTAMP:20260421T064439Z
LOCATION:4962 Mining
DESCRIPTION:
URL;VALUE=URI:
SUMMARY:Schlösser Lauf
DTSTART:20261003T230000Z
END:VEVENT
END:VCALENDAR
An internal server error occurred.