BEGIN:VCALENDAR
VERSION:2.0
PRODID:-//hacksw/handcal//NONSGML v1.0//EN
CALSCALE:GREGORIAN
BEGIN:VEVENT
DTEND:20260515T230000Z
UID:69e59b0fc3863
DTSTAMP:20260420T041839Z
LOCATION:2534 Alland
DESCRIPTION:
 

URL;VALUE=URI:
SUMMARY:Allander Marktlauf
DTSTART:20260515T230000Z
END:VEVENT
END:VCALENDAR
An internal server error occurred.