BEGIN:VCALENDAR
VERSION:2.0
PRODID:-//hacksw/handcal//NONSGML v1.0//EN
CALSCALE:GREGORIAN
BEGIN:VEVENT
DTEND:20261003T230000Z
UID:69e73ac6267a4
DTSTAMP:20260421T095222Z
LOCATION:08001 Barcelona

DESCRIPTION:
URL;VALUE=URI:
SUMMARY:IRONMAN Calella-Barcelona
DTSTART:20261003T230000Z
END:VEVENT
END:VCALENDAR
An internal server error occurred.