BEGIN:VCALENDAR
VERSION:2.0
PRODID:-//hacksw/handcal//NONSGML v1.0//EN
CALSCALE:GREGORIAN
BEGIN:VEVENT
DTEND:20261003T230000Z
UID:69e73ac7533e5
DTSTAMP:20260421T095223Z
LOCATION:76633 Waco\, Texas
DESCRIPTION:
URL;VALUE=URI:
SUMMARY:IRONMAN 70.3 Waco
DTSTART:20261003T230000Z
END:VEVENT
END:VCALENDAR
An internal server error occurred.