BEGIN:VCALENDAR
VERSION:2.0
PRODID:-//hacksw/handcal//NONSGML v1.0//EN
CALSCALE:GREGORIAN
BEGIN:VEVENT
DTEND:20261002T230000Z
UID:69e9ade898b14
DTSTAMP:20260423T062808Z
LOCATION:4541 Adlwang
DESCRIPTION:
URL;VALUE=URI:
SUMMARY:Kirtagslauf Adlwang
DTSTART:20261002T230000Z
END:VEVENT
END:VCALENDAR
An internal server error occurred.