BEGIN:VCALENDAR
VERSION:2.0
PRODID:-//hacksw/handcal//NONSGML v1.0//EN
CALSCALE:GREGORIAN
BEGIN:VEVENT
DTEND:20261002T230000Z
UID:69e6bb64e133b
DTSTAMP:20260421T004852Z
LOCATION:3500 Krems an der Donau
DESCRIPTION:
URL;VALUE=URI:
SUMMARY:Wachau Trail
DTSTART:20261002T230000Z
END:VEVENT
END:VCALENDAR
An internal server error occurred.