BEGIN:VCALENDAR
VERSION:2.0
PRODID:-//hacksw/handcal//NONSGML v1.0//EN
CALSCALE:GREGORIAN
BEGIN:VEVENT
DTEND:20261002T230000Z
UID:69e8122dbf493
DTSTAMP:20260422T011125Z
LOCATION:7301 Deutschkreuz
DESCRIPTION:
URL;VALUE=URI:
SUMMARY:Blaufränkischland Marathon
DTSTART:20261002T230000Z
END:VEVENT
END:VCALENDAR
An internal server error occurred.