BEGIN:VCALENDAR
VERSION:2.0
PRODID:-//hacksw/handcal//NONSGML v1.0//EN
CALSCALE:GREGORIAN
BEGIN:VEVENT
DTEND:20261002T230000Z
UID:69e73ac5acd12
DTSTAMP:20260421T095221Z
LOCATION:18057 Rostock
DESCRIPTION:
URL;VALUE=URI:
SUMMARY:Run 10k Rostock
DTSTART:20261002T230000Z
END:VEVENT
END:VCALENDAR
An internal server error occurred.