BEGIN:VCALENDAR
VERSION:2.0
PRODID:-//hacksw/handcal//NONSGML v1.0//EN
CALSCALE:GREGORIAN
BEGIN:VEVENT
DTEND:20260926T230000Z
UID:69e6e06ceaa48
DTSTAMP:20260421T032652Z
LOCATION:89073 Ulm
DESCRIPTION:
URL;VALUE=URI:
SUMMARY:Einstein Marathon
DTSTART:20260926T230000Z
END:VEVENT
END:VCALENDAR
An internal server error occurred.