BEGIN:VCALENDAR
VERSION:2.0
PRODID:-//hacksw/handcal//NONSGML v1.0//EN
CALSCALE:GREGORIAN
BEGIN:VEVENT
DTEND:20261003T230000Z
UID:69e6d3b180053
DTSTAMP:20260421T023233Z
LOCATION:57531 Gurye
DESCRIPTION:
URL;VALUE=URI:
SUMMARY:IRONMAN Gurye Korea
DTSTART:20261003T230000Z
END:VEVENT
END:VCALENDAR
An internal server error occurred.