BEGIN:VCALENDAR
VERSION:2.0
PRODID:-//hacksw/handcal//NONSGML v1.0//EN
CALSCALE:GREGORIAN
BEGIN:VEVENT
DTEND:20260926T230000Z
UID:69e73ac997475
DTSTAMP:20260421T095225Z
LOCATION:30805 Augusta\, Georgia
DESCRIPTION:
URL;VALUE=URI:
SUMMARY:IRONMAN 70.3 Augusta
DTSTART:20260926T230000Z
END:VEVENT
END:VCALENDAR
An internal server error occurred.