BEGIN:VCALENDAR
VERSION:2.0
PRODID:-//hacksw/handcal//NONSGML v1.0//EN
CALSCALE:GREGORIAN
BEGIN:VEVENT
DTEND:20260925T230000Z
UID:69e75aefa973c
DTSTAMP:20260421T120935Z
LOCATION:8010 Graz
DESCRIPTION:
URL;VALUE=URI:
SUMMARY:Bulme-Lauf
DTSTART:20260925T230000Z
END:VEVENT
END:VCALENDAR
An internal server error occurred.