BEGIN:VCALENDAR
VERSION:2.0
PRODID:-//hacksw/handcal//NONSGML v1.0//EN
CALSCALE:GREGORIAN
BEGIN:VEVENT
DTEND:20260925T230000Z
UID:69e720fbbcda9
DTSTAMP:20260421T080219Z
LOCATION:2345 Perchtoldsdorf
DESCRIPTION:
URL;VALUE=URI:
SUMMARY:Kammersteiner Berglauf
DTSTART:20260925T230000Z
END:VEVENT
END:VCALENDAR
An internal server error occurred.