BEGIN:VCALENDAR
VERSION:2.0
PRODID:-//hacksw/handcal//NONSGML v1.0//EN
CALSCALE:GREGORIAN
BEGIN:VEVENT
DTEND:20260925T230000Z
UID:69e70467bb560
DTSTAMP:20260421T060023Z
LOCATION:6165 Telfes im Stubai
DESCRIPTION:
URL;VALUE=URI:
SUMMARY:Kalkkögel Trail
DTSTART:20260925T230000Z
END:VEVENT
END:VCALENDAR
An internal server error occurred.