BEGIN:VCALENDAR
VERSION:2.0
PRODID:-//hacksw/handcal//NONSGML v1.0//EN
CALSCALE:GREGORIAN
BEGIN:VEVENT
DTEND:20260925T230000Z
UID:69e812194f933
DTSTAMP:20260422T011105Z
LOCATION:83242 Reit im Winkl 
DESCRIPTION:
URL;VALUE=URI:
SUMMARY: Mountainman Reit im Winkl
DTSTART:20260924T230000Z
END:VEVENT
END:VCALENDAR
An internal server error occurred.