BEGIN:VCALENDAR
VERSION:2.0
PRODID:-//hacksw/handcal//NONSGML v1.0//EN
CALSCALE:GREGORIAN
BEGIN:VEVENT
DTEND:20260926T230000Z
UID:69e725a81d67a
DTSTAMP:20260421T082216Z
LOCATION:3430 Tulln
DESCRIPTION:
URL;VALUE=URI:
SUMMARY:Tullner Lauftage Marathon
DTSTART:20260924T230000Z
END:VEVENT
END:VCALENDAR
An internal server error occurred.