BEGIN:VCALENDAR
VERSION:2.0
PRODID:-//hacksw/handcal//NONSGML v1.0//EN
CALSCALE:GREGORIAN
BEGIN:VEVENT
DTEND:20260912T230000Z
UID:69e7d9922580a
DTSTAMP:20260421T210954Z
LOCATION:SA61 Pembrokeshire\, Wales

DESCRIPTION:
URL;VALUE=URI:
SUMMARY:IRONMAN Wales
DTSTART:20260912T230000Z
END:VEVENT
END:VCALENDAR
An internal server error occurred.